Workbook
Name _GoBack: 申請書!$B$44
Name _GoBack: '申請書 (記載例用)'!$B$43

Sheet 申請書
B1: 第１号様式 | D1: =IFERROR(VLOOKUP(D19,非表示にするよ!D:P,13,0),"")
B2: 松戸市制限付き一般競争入札参加資格審査申請書兼誓約書
B3: 令和 年 月 日
B4: 松 戸 市 長
B5: 松戸市教育委員会教育長
B6: 所在地又は住所
B7: 商号又は名称
B8: 代表者職氏名
B10: 下記の入札の公告を熟読して、入札参加資格があると十分確認して入札に参加するとともに、次の事項
B11: について誓約します。
B12: ・関係法令及び松戸市の諸規程を順守すること。
B13: ・入札心得第８の第７号、入札心得（電子入札用）第８の第５号の規定に抵触する行為を行っていない
B14: ことを誓約するとともに、今後とも同規定を遵守することを誓約します。なお、当該事業案件に関する
B15: 談合等の事実が明らかになった場合には、入札を無効とされ、または、契約を解除されても異議を申し
C16: 立てません。
B17: 記
B18: １ 事業案件名
B19: （１）松契一般：第 | E19: 号
B20: （２）工事名称： | D20: =IFERROR(VLOOKUP($D$19,非表示にするよ!D:E,2,0),"")
B21: （３）工事場所： | D21: =IFERROR(VLOOKUP($D$19,非表示にするよ!D:F,3,0),"")
B22: ２ 配置予定技術者 ※配置予定技術者が２名以上複数求める場合は次ページに記入ください。
C23: 氏名 | F23: 資格
B25: ３ 事業実績（公告文記載の実績要件を入力し契約書の写しを添付すること。実績要件が無い場合であっ ても入札保証金免除の審査に必要なので、入力し契約書の写しを添付すること。）
C26: 事業件名 | D26: 発注機関 | F26: 契約金額 | G26: 履行期間
G27: 令和 年 月 日から
F28: 千円 | G28: 令和 年 月 日まで
B30: ４ 契約保証金免除審査のための事業実績（過去2年間に同種・同規模の公共事業を2回以上履行した実 績。契約書の写しを添付すること。なお、「３ 事業実績」で当該要件を満たす場合は、1件のみ入力 し、契約書の写しを添付すること。）
C32: 事業件名 | D32: 発注機関 | F32: 契約金額 | G32: 履行期間
G33: 令和 年 月 日から
F34: 千円 | G34: 令和 年 月 日まで
C35: 事業件名 | D35: 発注機関 | F35: 契約金額 | G35: 履行期間
G36: 令和 年 月 日から
F37: 千円 | G37: 令和 年 月 日まで
B38: ５ 申請書作成担当者氏名及び連絡先
C39: 氏 名 | F39: ﾒｰﾙｱﾄﾞﾚｽ
C40: 電話番号 | F40: FAX番号
B42: ※ 留意事項 ・配置予定技術者資格証の写し及び恒常的な雇用関係（３か月以上）を示す書類の写しを申 込書と一緒に添付してください。
B43: ・実績を証明する契約書表紙及び工法等、事業内容の確認できる書類を申込書と一緒に添付 して下さい（実績要件がある場合）
B44: ・提出された申込書類のみでは資格を判断できないときは、記載責任者に連絡してヒヤリン グを行う場合があります。
B46: 第１号様式
...

Sheet 記載例

Sheet 申請書 (記載例用)
B1: 第１号様式 | D1: =IFERROR(VLOOKUP(D18,非表示にするよ!D:P,13,0),"")
B2: 松戸市制限付き一般競争入札参加資格審査申請書兼誓約書
B3: 令和 〇年 〇月 〇日
B4: 松 戸 市 長
B5: 松戸市教育委員会教育長
B6: 所在地又は住所 | G6: （例）松戸市根本〇〇〇
B7: 商号又は名称 | G7: (例）松戸〇〇株式会社
B8: 代表者職氏名 | G8: (例）代表取締役 山田〇〇
B10: 下記の入札の公告を熟読して、入札参加資格があると十分確認して入札に参加するとともに、次の事項
B11: について誓約します。
B12: ・関係法令及び松戸市の諸規程を順守すること。
B13: ・入札心得第７の第７号の規定に抵触する行為を行っていないことを誓約するとともに、今後とも同規定を
B14: 遵守することを誓約します。なお、当該事業案件に関する談合等の事実が明らかになった場合には、入札
B15: を無効とされ、または、契約を解除されても異議を申し立てません。
B16: 記
B17: １ 事業案件名
B18: （１） 松契一般第 | D18: 448 | E18: 号
B19: （２） 事業名称： | D19: =IFERROR(VLOOKUP($D$18,非表示にするよ!D:E,2,0),"")
B20: （３） 事業場所： | D20: =IFERROR(VLOOKUP($D$18,非表示にするよ!D:F,3,0),"")
B21: ２ 配置予定技術者 ※配置予定技術者が２名以上複数求める場合は次ページに記入ください。
C22: 氏名 | D22: (例）山田 〇〇 | F22: 資格 | G22: (例）栄養士
B24: ３ 事業実績（公告文記載の実績要件を入力し契約書の写しを添付すること。実績要件が無い場合であっても入札保証金免除の審査に必要なので、入力し契約書の写しを添付すること。）
C25: 事業件名 | D25: 発注機関 | F25: 契約金額 | G25: 履行期間
C26: （例）〇〇業務委託 | D26: (例）千葉県〇〇市 | F26: (例）〇〇〇 | G26: 平成 〇年 〇月 〇日～
F27: 千円 | G27: 平成 〇年 〇月 〇日まで
B29: ４ 契約保証金免除審査のための事業実績（過去２年間に同種・同規模の公共事業を２回以上履行した実績。 契約書の写しを添付すること。なお、「３ 事業実績」で当該要件を満たす場合は、１件のみ入力し、契約書 の写しを添付すること。）
C31: 事業件名 | D31: 発注機関 | F31: 契約金額 | G31: 履行期間
G32: 令和 年 月 日～
F33: 千円 | G33: 令和 年 月 日まで
C34: 事業件名 | D34: 発注機関 | F34: 契約金額 | G34: 履行期間
G35: 令和 年 月 日～
F36: 千円 | G36: 令和 年 月 日まで
B37: ４ 申請書作成担当者氏名及び連絡先
C38: 氏 名 | D38: (例）高橋〇〇 | F38: ﾒｰﾙｱﾄﾞﾚｽ | G38: (例）〇〇@〇〇〇.jp
C39: 電話番号 | D39: (例）047-xxx-xxxx | F39: FAX番号 | G39: (例）047-xxx-xxxx
B41: ※ 留意事項 ・責任者、副責任者の資格証写し及び恒常的な雇用関係（３か月以上）を示す書類（健康保険被
B42: 保険者証等）の写しを申込書と一緒に添付してください。
B43: ・提出された申込書類のみでは資格を判断できないときは、記載責任者に連絡してヒヤリングを 行う場合があります。

Sheet 非表示にするよ
A2: 付箋№ | B2: 区分 | C2: 契約方法 | D2: 公告・指名 通知番号 | E2: 事業名称 | F2: 事業場所 | G2: 契約課 担当者 | H2: 契約 番号 | I2: 事業担当課 | J2: 事業担当課 担当者 | K2: 設計担当課 | L2: 設計担当課 担当者 | M2: 業種 | N2: ランク | O2: 設計金額（税込） | P2: 業種＆ランク | Q2: 区分（再掲）
A3: 122 | B3: 設計委託 | C3: 一般競争 | D3: 256 | E3: 松戸第８処理分区汚水枝線工事（Ｒ７－１工区）他２件に伴う家屋事後調査業務委託 | F3: 松戸市 和名ケ谷 地先他 | G3: 宮・水本 | H3: 1124 | I3: 下水道整備課 | J3: 木島一輝 | M3: 測量・コンサルタント部門の「補償：事業損失」及び「補償：補償関連」 | N3: 0 | O3: 6556000 | P3: =IF(OR(B3="工事",B3="修繕"),M3&N3,M3) -> 測量・コンサルタント部門の「補償：事業損失」及び「補償：補償関連」 | Q3: =B3 -> 設計委託
A4: 123 | B4: 設計委託 | C4: 一般競争 | D4: 257 | E4: 幸谷排水区雨水枝線工事（Ｒ７－１工区）に伴う家屋事後調査業務委託 | F4: 松戸市 小金清志町三丁目 地先 | G4: 宮・水本 | H4: 1126 | I4: 下水道整備課 | J4: 林駿介 | M4: 測量・コンサルタント部門の「補償：事業損失」及び「補償：補償関連」 | N4: 0 | O4: 3333000 | P4: =IF(OR(B4="工事",B4="修繕"),M4&N4,M4) -> 測量・コンサルタント部門の「補償：事業損失」及び「補償：補償関連」 | Q4: =B4 -> 設計委託
A5: 124 | B5: 設計委託 | C5: 一般競争 | D5: 258 | E5: 令和８年度 航空写真撮影業務委託 | F5: 松戸市全域 | G5: 宮・水本 | H5: 1120 | I5: 固定資産税課 | J5: 佐藤紀子 | M5: 測量・コンサルタント部門の「測量：測量一般」及び「航空測量」 | N5: 0 | O5: 23870000 | P5: =IF(OR(B5="工事",B5="修繕"),M5&N5,M5) -> 測量・コンサルタント部門の「測量：測量一般」及び「航空測量」 | Q5: =B5 -> 設計委託
P6: =IF(OR(B6="工事",B6="修繕"),M6&N6,M6) -> 0 | Q6: =B6 -> 0
P7: =IF(OR(B7="工事",B7="修繕"),M7&N7,M7) -> 0 | Q7: =B7 -> 0
P8: =IF(OR(B8="工事",B8="修繕"),M8&N8,M8) -> 0 | Q8: =B8 -> 0
P9: =IF(OR(B9="工事",B9="修繕"),M9&N9,M9) -> 0 | Q9: =B9 -> 0
P10: =IF(OR(B10="工事",B10="修繕"),M10&N10,M10) -> 0 | Q10: =B10 -> 0
P11: =IF(OR(B11="工事",B11="修繕"),M11&N11,M11) -> 0 | Q11: =B11 -> 0
P12: =IF(OR(B12="工事",B12="修繕"),M12&N12,M12) -> 0 | Q12: =B12 -> 0
P13: =IF(OR(B13="工事",B13="修繕"),M13&N13,M13) -> 0 | Q13: =B13 -> 0
P14: =IF(OR(B14="工事",B14="修繕"),M14&N14,M14) -> 0 | Q14: =B14 -> 0
P15: =IF(OR(B15="工事",B15="修繕"),M15&N15,M15) -> 0 | Q15: =B15 -> 0
P16: =IF(OR(B16="工事",B16="修繕"),M16&N16,M16) -> 0 | Q16: =B16 -> 0
P17: =IF(OR(B17="工事",B17="修繕"),M17&N17,M17) -> 0 | Q17: =B17 -> 0
... P60: =IF(OR(B60="工事",B60="修繕"),M60&N60,M60) -> 0 | Q60: =B60 -> 0
